BEGIN:VCALENDAR
VERSION:2.0
PRODID:-//Silicon Valley Interreligious Council - ECPv6.15.12.2//NONSGML v1.0//EN
CALSCALE:GREGORIAN
METHOD:PUBLISH
X-ORIGINAL-URL:https://sivicdev.sivicouncil.org
X-WR-CALDESC:Events for Silicon Valley Interreligious Council
REFRESH-INTERVAL;VALUE=DURATION:PT1H
X-Robots-Tag:noindex
X-PUBLISHED-TTL:PT1H
BEGIN:VTIMEZONE
TZID:America/Los_Angeles
BEGIN:DAYLIGHT
TZOFFSETFROM:-0800
TZOFFSETTO:-0700
TZNAME:PDT
DTSTART:20150308T100000
END:DAYLIGHT
BEGIN:STANDARD
TZOFFSETFROM:-0700
TZOFFSETTO:-0800
TZNAME:PST
DTSTART:20151101T090000
END:STANDARD
BEGIN:DAYLIGHT
TZOFFSETFROM:-0800
TZOFFSETTO:-0700
TZNAME:PDT
DTSTART:20160313T100000
END:DAYLIGHT
BEGIN:STANDARD
TZOFFSETFROM:-0700
TZOFFSETTO:-0800
TZNAME:PST
DTSTART:20161106T090000
END:STANDARD
BEGIN:DAYLIGHT
TZOFFSETFROM:-0800
TZOFFSETTO:-0700
TZNAME:PDT
DTSTART:20170312T100000
END:DAYLIGHT
BEGIN:STANDARD
TZOFFSETFROM:-0700
TZOFFSETTO:-0800
TZNAME:PST
DTSTART:20171105T090000
END:STANDARD
END:VTIMEZONE
BEGIN:VEVENT
DTSTART;TZID=America/Los_Angeles:20160331T190000
DTEND;TZID=America/Los_Angeles:20160331T210000
DTSTAMP:20260419T073648
CREATED:20160310T005139Z
LAST-MODIFIED:20160310T005139Z
UID:921-1459450800-1459458000@sivicdev.sivicouncil.org
SUMMARY:Birds of Longing: An Interfaith Panel
DESCRIPTION:Taking inspiration from exhibiting artist Laurie Wohl’s Birds of Longing: Exile and Memory\, panel participants will speak to the interweaving of words\, beliefs\, and philosophies amongst the Abrahamic religions. Participants include: Wohl\, Maha Elgenaidi from the Islamic Networks Group\, Rev. Dr. D. Andrew Kille editor of Reading Between The Lines\, and Rabbi Me’irah Susan Iliinsky from VITAS Healthcare. \nBirds of Longing interweaves Muslim\, Jewish\, and Christian poetry and spiritual texts from the period of convivencia (co-existence) in Spain (8th-15th centuries)\, and from modern Middle Eastern poets\, particularly Palestinian and Israeli. \nEmphasis is on the common themes and striking parallels between Arabic and Hebrew texts\, similarly rich in their poetry of spiritual love\, an extensive poetry of exile\, and poetry of nostalgia for Andalusia. \nThe project contains Wohl’s weavings\, as well as an audio component which consists of readings in English\, Arabic\, and Hebrew that are interwoven to create a soundscape illustrating the commonality of the Middle Eastern languages. \nAll 2015-2016 art exhibits are made possible\, in part\, by a generous gift from Cookie Addison & Family.\nAll APJCC programming for Cultural Arts is made possible\, in part\, by generous gifts from Sylvia & Leonard Metz\, Doris & Rick Davis\, and Bill Lister.\nThe APJCC is proud to be a part of the Initiative on Jewish Peoplehood\,\nco-funded by the Koret Foundation and the Taube Foundation for Jewish Life & Culture.
URL:https://sivicdev.sivicouncil.org/event/birds-of-longing-an-interfaith-panel/
LOCATION:Addison-Penzak Jewish Community Center\, Levy Family Campus\, 14855 Oka Road\, Los Gatos\, CA\, 95032\, United States
CATEGORIES:Art Exhibit,Panel Discussion
ATTACH;FMTTYPE=image/jpeg:https://sivicdev.sivicouncil.org/wp-content/uploads/2016/03/02.Wohl_.Watchwords.jpg
ORGANIZER;CN="Addison-Penzak Jewish Community Center of Silicon Valley":MAILTO:info@apjcc.org
END:VEVENT
BEGIN:VEVENT
DTSTART;TZID=America/Los_Angeles:20160314T080000
DTEND;TZID=America/Los_Angeles:20160502T170000
DTSTAMP:20260419T073648
CREATED:20160315T014117Z
LAST-MODIFIED:20160315T014117Z
UID:931-1457942400-1462208400@sivicdev.sivicouncil.org
SUMMARY:Laurie Wohl’s Birds of Longing: Exile and Memory
DESCRIPTION:An Art Exhibition March 14th – May 2nd\nArtist Reception with Laurie on Thursday\, March 31st | 5:30pm \nThis project interweaves Muslim\, Jewish\, and Christian poetry and spiritual texts from the period of convivencia (co-existence) in Spain (8th-15th centuries)\, and from modern Middle Eastern poets\, particularly Palestinian and Israeli. \nEmphasis is on the common themes and striking parallels between Arabic and Hebrew texts\, similarly rich in their poetry of spiritual love\, an extensive poetry of exile\, and poetry of nostalgia for Andalusia. \nThe project contains Wohl’s weavings\, as well as an audio component which consists of readings in English\, Arabic\, and Hebrew that are interwoven to create a soundscape illustrating the commonality of the Middle Eastern languages. \nWohl will be at the JCC on March 31st as part of an interfaith panel discussion.
URL:https://sivicdev.sivicouncil.org/event/laurie-wohls-birds-of-longing-exile-and-memory/
LOCATION:Addison-Penzak Jewish Community Center\, Levy Family Campus\, 14855 Oka Road\, Los Gatos\, CA\, 95032\, United States
CATEGORIES:Art Exhibit
ATTACH;FMTTYPE=image/jpeg:https://sivicdev.sivicouncil.org/wp-content/uploads/2016/03/02.Wohl_.Watchwords.jpg
ORGANIZER;CN="Addison-Penzak Jewish Community Center of Silicon Valley":MAILTO:info@apjcc.org
END:VEVENT
END:VCALENDAR